BEGIN:VCALENDAR
VERSION:2.0
PRODID:-//ChamberMaster//Event Calendar 2.0//EN
METHOD:PUBLISH
X-PUBLISHED-TTL:P3D
REFRESH-INTERVAL:P3D
CALSCALE:GREGORIAN
BEGIN:VEVENT
DTSTART:20170207T030000Z
DTEND:20170207T043000Z
X-MICROSOFT-CDO-ALLDAYEVENT:FALSE
SUMMARY:Sustainability Dialog: City Council Candidate Forum on Claremont's Heritage and Sustainability
DESCRIPTION:This event is sponsored by Sustainable Claremont and Claremont Heritage in partnership with the League of Women Voters\, the Interfaith Sustainability Council\, and Pomona College.\n\n\n\nOn March 7\, 2017 Claremont will hold a General Municipal Election for two seats on the City Council.  There are 8 candidates in the running who we are inviting to dialogue with you about Claremont's heritage and sustainability.  After each campaigner makes a brief presentation there will be some time for questions and answers.  Join the dialog and become an informed voter!
X-ALT-DESC;FMTTYPE=text/html:<em>This event is sponsored by Sustainable Claremont and Claremont Heritage in partnership with the League of Women Voters\, the Interfaith Sustainability Council\, and Pomona College.</em><br />\n<br />\nOn March 7\, 2017 Claremont will hold a General Municipal Election for two seats on the City Council. &nbsp\;There are 8 candidates in the running who we are inviting to dialogue with you about Claremont&#39\;s heritage and sustainability. &nbsp\;After each campaigner makes a brief presentation there will be some time for questions and answers. &nbsp\;Join the dialog and become an informed voter! &nbsp\;&nbsp\;
LOCATION:Hahn 101 Pomona College 420 North Harvard Ave Claremont\, CA 91711
UID:e.838.14918
SEQUENCE:3
DTSTAMP:20260424T184846Z
URL:https://business.claremontchamber.org/events/details/sustainability-dialog-city-council-candidate-forum-on-claremont-s-heritage-and-sustainability-02-06-2017-14918
END:VEVENT

END:VCALENDAR
