BEGIN:VCALENDAR
VERSION:2.0
PRODID:-//ChamberMaster//Event Calendar 2.0//EN
METHOD:PUBLISH
X-PUBLISHED-TTL:P3D
REFRESH-INTERVAL:P3D
CALSCALE:GREGORIAN
BEGIN:VEVENT
DTSTART:20170124T030000Z
DTEND:20170124T043000Z
X-MICROSOFT-CDO-ALLDAYEVENT:FALSE
SUMMARY:Sustainability Dialog: Polyphagous Shot Hole Borer and its Impact on Claremont’s Trees
DESCRIPTION:This event is sponsored by Sustainable Claremont.\n\n\n\nPresented by Dave Roger\, Urban Forester with the City of Claremont \n\n\n\nCome learn about the Polyphagus Shot Hole Borer and its impact on Claremont's trees.  Find out how the City is responding and what you can do if the shot hole borer attacks your trees.  Ask questions and join the dialogue.\n\n\n\nFree and open to all.  Sponsored by Sustainable Claremont\, the League of Women Voters\, the Interfaith Sustainability Council\, and Pomona College.
X-ALT-DESC;FMTTYPE=text/html:<em>This event is sponsored by Sustainable Claremont.</em><br />\n<br />\nPresented by Dave Roger\, Urban Forester with the City of Claremont&nbsp\;<br />\n<br />\nCome learn about the Polyphagus Shot Hole Borer and its impact on Claremont&rsquo\;s trees. &nbsp\;Find out how the City is responding and what you can do if the shot hole borer attacks your trees. &nbsp\;Ask questions and join the dialogue.<br />\n<br />\nFree and open to all. &nbsp\;Sponsored by Sustainable Claremont\, the League of Women Voters\, the Interfaith Sustainability Council\, and Pomona College.
LOCATION:Pomona College\, Hahn Building\, Rm 101 420 N. Harvard Ave.\, Claremont
UID:e.838.14895
SEQUENCE:3
DTSTAMP:20260424T200603Z
URL:https://business.claremontchamber.org/events/details/sustainability-dialog-polyphagous-shot-hole-borer-and-its-impact-on-claremont-s-trees-14895
END:VEVENT

END:VCALENDAR
