BEGIN:VCALENDAR
VERSION:2.0
PRODID:-//ChamberMaster//Event Calendar 2.0//EN
METHOD:PUBLISH
X-PUBLISHED-TTL:P3D
REFRESH-INTERVAL:P3D
CALSCALE:GREGORIAN
BEGIN:VEVENT
DTSTART:20151006T013000Z
DTEND:20151006T040000Z
X-MICROSOFT-CDO-ALLDAYEVENT:FALSE
SUMMARY:Sustainable Claremont Annual Meeting
DESCRIPTION:You're invited to Sustainable Claremont's 2015 Annual Meeting!\n\n\n\nFREE and open to the community!\n\n\n\nThe theme this year is Energize Claremont\, and the meeting will feature relevant local vendors and speakers. We will also be giving out awards to local businesses and community members who have become leaders in sustainability. Refreshments will be served.
X-ALT-DESC;FMTTYPE=text/html:<span class="fsl">You&#39\;re invited to Sustainable Claremont&#39\;s 2015 Annual Meeting!<br />\n<br />\nFREE and open to the community!<br />\n<br />\nThe theme this year is Energize Claremont\, and the meeting will feature relevant local vendors and speakers. We will also be giving out awards to local businesses and community members who have become leaders in sustainability. Refreshments will be served.</span><br />\n<br />\n&nbsp\;
LOCATION:Padua Hills Theater 4467 Padua Ave. Claremont
UID:e.838.11166
SEQUENCE:3
DTSTAMP:20260426T040329Z
URL:https://business.claremontchamber.org/events/details/sustainable-claremont-annual-meeting-10-05-2015-11166
END:VEVENT

END:VCALENDAR
