BEGIN:VCALENDAR
VERSION:2.0
PRODID:-//ChamberMaster//Event Calendar 2.0//EN
METHOD:PUBLISH
X-PUBLISHED-TTL:P3D
REFRESH-INTERVAL:P3D
CALSCALE:GREGORIAN
BEGIN:VEVENT
DTSTART:20180616T163000Z
DTEND:20180616T183000Z
X-MICROSOFT-CDO-ALLDAYEVENT:FALSE
SUMMARY:Sycamore Hills Plaza Grand Opening & Ribbon Cutting
DESCRIPTION:You are invited to the Grand Opening Celebration of Sycamore Hills Plaza. Join the Upland & Claremont Mayors\, Debbie Stone & Opanyi Nasiali\, for our ceremonial ribbon cutting as we recognize all the exceptional partners that have helped make Sycamore Hills Plaza a reality.\n\n\n\nGrand Opening     Dedication Ceremony     Tenant Meet & Greet\n\n\n\nRSVP here - http://sycamorehillsca.com/sycamore-hills-plaza-grand-opening/\n\n\n\nWHAT:  Sycamore Hills Plaza Grand Opening & Ribbon Cutting\n\n\n\nWHERE:  Sycamore Hills Plaza\n\nAt the intersection of Highway 210\n\nand Base Line Road\n\n\n\nEvents held in the parking lot in front of MOD Pizza\n\n\n\nWHEN:  Saturday\, June 16\, 2018\n\n\n\nTIME:  Ribbon Cutting: 9:30am   10:15am\n\n            Reception: 10:15am   11:30am
X-ALT-DESC;FMTTYPE=text/html:<span style="color:rgb(51\, 88\, 114)\; font-family:playfair display\; font-size:15px">You are invited to the Grand Opening Celebration of Sycamore Hills Plaza. Join the Upland &amp\; Claremont Mayors\, Debbie Stone &amp\; Opanyi Nasiali\, for our ceremonial ribbon cutting as we recognize all the exceptional partners that have helped make Sycamore Hills Plaza a reality.</span><br />\n<br />\n<strong>Grand Opening&nbsp\;&nbsp\;&bull\;&nbsp\;&nbsp\;Dedication Ceremony&nbsp\;&nbsp\;&bull\;&nbsp\;&nbsp\;Tenant Meet &amp\; Greet<br />\n<br />\nRSVP here -&nbsp\;</strong>http://sycamorehillsca.com/sycamore-hills-plaza-grand-opening/<br />\n<br />\n<strong>WHAT:</strong>&nbsp\; Sycamore Hills Plaza Grand Opening &amp\; Ribbon Cutting<br />\n<br />\n<strong>WHERE:&nbsp\; </strong>Sycamore Hills Plaza<br />\nAt the intersection of Highway 210<br />\nand Base Line Road<br />\n<br />\nEvents held in the parking lot in front of MOD Pizza<br />\n<br />\n<strong>WHEN:</strong>&nbsp\; Saturday\, June 16\, 2018<br />\n<br />\n<strong>TIME</strong>:&nbsp\; Ribbon Cutting: 9:30am &ndash\; 10:15am<br />\n&nbsp\; &nbsp\; &nbsp\; &nbsp\; &nbsp\; &nbsp\; Reception: 10:15am &ndash\; 11:30am<br />\n&nbsp\;
LOCATION:Sycamore Hills Plaza At the intersection of Highway 210 and Baseline Road
UID:e.838.18913
SEQUENCE:3
DTSTAMP:20260422T041908Z
URL:https://business.claremontchamber.org/events/details/sycamore-hills-plaza-grand-opening-ribbon-cutting-18913
END:VEVENT

END:VCALENDAR
