BEGIN:VCALENDAR
VERSION:2.0
PRODID:-//ChamberMaster//Event Calendar 2.0//EN
METHOD:PUBLISH
X-PUBLISHED-TTL:P3D
REFRESH-INTERVAL:P3D
CALSCALE:GREGORIAN
BEGIN:VEVENT
DTSTART:20170603T010000Z
DTEND:20170603T050000Z
X-MICROSOFT-CDO-ALLDAYEVENT:FALSE
SUMMARY:Table to Farm
DESCRIPTION:This event is sponsored by House of Ruth.\n\n\n\nHouse of Ruth invites you to join us for an evening of summer fun\, food\, and drinks\, served al fresco at The Farm at Fairplex. The chef prepares a gourmet meal with ingredients gathered fresh from the farm for an authentic farm-to-table experience.
X-ALT-DESC;FMTTYPE=text/html:<span style="font-size:12px\;"><span style="font-family:arial\;"><span style="color: rgb(75\, 79\, 86)\;"><em>This event is sponsored by House of Ruth.</em><br />\n<br />\nHouse of Ruth invites you to join us for an evening of summer fun\, food\, and drinks\, served al fresco at The Farm at Fairplex. The chef prepares a gourmet meal with ingredients gathered fresh from the farm for an authentic farm-to-table experience.&nbsp\;</span></span></span><br />\n<br />\n&nbsp\;
LOCATION:The Farm at Fairplex Access to the Farm's Parking is through Gate 12 near the Finish Line Sports Bar & Grill 2201 N. White Ave Pomona\, CA 91768
UID:e.838.16293
SEQUENCE:3
DTSTAMP:20260425T104124Z
URL:https://business.claremontchamber.org/events/details/table-to-farm-16293
END:VEVENT

END:VCALENDAR
