BEGIN:VCALENDAR
VERSION:2.0
PRODID:-//ChamberMaster//Event Calendar 2.0//EN
METHOD:PUBLISH
X-PUBLISHED-TTL:P3D
REFRESH-INTERVAL:P3D
CALSCALE:GREGORIAN
BEGIN:VEVENT
DTSTART:20170315T220000Z
DTEND:20170316T000000Z
X-MICROSOFT-CDO-ALLDAYEVENT:FALSE
SUMMARY:The Claremont Police Department presents: COFFEE WITH A COP
DESCRIPTION:The Claremont Police Department presents: COFFEE WITH A COP\n\nCome Meet the New Police Chief and Captain\n\n\n\nClaremont\, CA\, | March 2\, 2017 - Claremont Police Department is extremely happy to announce that it will be hosting its first inaugural Coffee With a Cop event on March 15th from 3PM to 5PM. The event will be held at Starbucks\, located at 665 E. Foothill Blvd.\, Claremont CA.\n\n\n\nThe Claremont Police Department and its Officers are excited for the opportunity to meet with community members and build relationships in order to better problem solve with the people we serve. No speeches or specific topics  Just informal conversations about what matters to community residents.\n\n\n\nThank you and we hope to see you there!
X-ALT-DESC;FMTTYPE=text/html:<strong>The Claremont Police Department presents: COFFEE WITH A COP</strong><br />\nCome Meet the New Police Chief and Captain<br />\n<br />\nClaremont\, CA\, | March 2\, 2017 - Claremont Police Department is extremely happy to announce that it will be hosting its first inaugural Coffee With a Cop event on March 15th from 3PM to 5PM. The event will be held at Starbucks\, located at 665 E. Foothill Blvd.\, Claremont CA.<br />\n<br />\nThe Claremont Police Department and its Officers are excited for the opportunity to meet with community members and build relationships in order to better problem solve with the people we serve. No speeches or specific topics&hellip\; Just informal conversations about what matters to community residents.<br />\n<br />\nThank you and we hope to see you there!
LOCATION:Starbucks 665 E. Foothill Blvd. Claremont CA 91711
UID:e.838.15481
SEQUENCE:3
DTSTAMP:20260424T153145Z
URL:https://business.claremontchamber.org/events/details/the-claremont-police-department-presents-coffee-with-a-cop-15481
END:VEVENT

END:VCALENDAR
