BEGIN:VCALENDAR
VERSION:2.0
PRODID:-//ChamberMaster//Event Calendar 2.0//EN
METHOD:PUBLISH
X-PUBLISHED-TTL:P3D
REFRESH-INTERVAL:P3D
CALSCALE:GREGORIAN
BEGIN:VEVENT
DTSTART:20170602T220000Z
DTEND:20170603T000000Z
X-MICROSOFT-CDO-ALLDAYEVENT:FALSE
SUMMARY:The Claremont Police Department presents: COFFEE WITH A COP
DESCRIPTION:The Claremont Police Department presents: COFFEE WITH A COP\n\nClaremont CERT Showcase\n\n\n\nClaremont Police Department will be hosting it's popular Coffee With a Cop event on Friday\, June 2nd from 3 pm to 5 pm. The event will be held at\n\nAugie's Coffee House\, located at 536 W First St\, Claremont CA 91711.\n\n\n\nThe Claremont Police Department and its Officers are excited to showcase the Claremont CERT Program and will have members on hand to talk about it.\n\n\n\nThank you and we hope to see you there!
X-ALT-DESC;FMTTYPE=text/html:<strong>The Claremont Police Department presents: COFFEE WITH A COP</strong><br />\n<em>Claremont CERT Showcase</em><br />\n<br />\nClaremont Police Department will be hosting it&#39\;s popular Coffee With a Cop event on Friday\, June 2nd from 3 pm to 5 pm. The event will be held at<br />\nAugie&#39\;s&nbsp\;Coffee House\, located at 536 W First St\, Claremont CA 91711.<br />\n<br />\nThe Claremont Police Department and its Officers are excited to showcase the Claremont CERT Program and will have members on hand to talk about it.<br />\n<br />\nThank you and we hope to see you there!
LOCATION:Augie's Coffee House 536 W First St Claremont CA 91711
UID:e.838.16326
SEQUENCE:3
DTSTAMP:20260424T065102Z
URL:https://business.claremontchamber.org/events/details/the-claremont-police-department-presents-coffee-with-a-cop-16326
END:VEVENT

END:VCALENDAR
