BEGIN:VCALENDAR
VERSION:2.0
PRODID:-//ChamberMaster//Event Calendar 2.0//EN
METHOD:PUBLISH
X-PUBLISHED-TTL:P3D
REFRESH-INTERVAL:P3D
CALSCALE:GREGORIAN
BEGIN:VEVENT
DTSTART:20171219T013000Z
DTEND:20171219T023000Z
X-MICROSOFT-CDO-ALLDAYEVENT:FALSE
SUMMARY:The Host: Indian Bistro & Sports Bar
DESCRIPTION:Join us for a special Ribbon Cutting for our new Chamber member - The Host: Indian Bistro & Sports Bar
X-ALT-DESC;FMTTYPE=text/html:Join us for a special Ribbon Cutting for our new Chamber member - The Host: Indian Bistro &amp\; Sports Bar
LOCATION:590 W 1st Street\, Claremont\, CA 91711
UID:e.838.17204
SEQUENCE:3
DTSTAMP:20260423T090554Z
URL:https://business.claremontchamber.org/events/details/the-host-indian-bistro-sports-bar-17204
END:VEVENT

END:VCALENDAR
