BEGIN:VCALENDAR
VERSION:2.0
PRODID:-//ChamberMaster//Event Calendar 2.0//EN
METHOD:PUBLISH
X-PUBLISHED-TTL:P3D
REFRESH-INTERVAL:P3D
CALSCALE:GREGORIAN
BEGIN:VEVENT
DTSTART:20180428T180000Z
DTEND:20180429T050000Z
X-MICROSOFT-CDO-ALLDAYEVENT:FALSE
SUMMARY:The Poke Co. Grand Opening
DESCRIPTION:First 100 guests get a free medium size poke bowl\n	Next 100 guests get a free boba drink of choice\n	All day - guests who purchase a medium or large poke bowl will receive a free boba drink \n	Tshirts\, hats\, spin wheel with additional prizes will all be available
X-ALT-DESC;FMTTYPE=text/html:<ul>\n	<li>First 100 guests get a free medium size poke bowl</li>\n	<li>Next 100 guests get a free boba drink of choice</li>\n	<li>All day - guests who purchase a medium or large poke bowl will receive a free boba drink&nbsp\;</li>\n	<li>Tshirts\, hats\, spin wheel with additional prizes will all be available</li>\n</ul>\n
LOCATION:The Poke Co. 363 W Bonita Ave Claremont\, Ca 91711
UID:e.838.18872
SEQUENCE:3
DTSTAMP:20260422T101353Z
URL:https://business.claremontchamber.org/events/details/the-poke-co-grand-opening-04-28-2018-18872
END:VEVENT

END:VCALENDAR
