BEGIN:VCALENDAR
VERSION:2.0
PRODID:-//ChamberMaster//Event Calendar 2.0//EN
METHOD:PUBLISH
X-PUBLISHED-TTL:P3D
REFRESH-INTERVAL:P3D
CALSCALE:GREGORIAN
BEGIN:VEVENT
DTSTART:20181006T230000Z
DTEND:20181007T010000Z
X-MICROSOFT-CDO-ALLDAYEVENT:FALSE
SUMMARY:The Trafficking of Guns in the United States
DESCRIPTION:US The Trafficking of Guns in the US:  A Food for Thought Event\n\n \n\nThis program is the first in a year-long series of public meetings on Gun Violence\, sponsored by the local League of Women Voters\, beginning on Saturday\, October 6 from 4 to 6 PM in the Padua Room of the Hughes Center at 1700 Danbury Road\, Claremont.  Speakers will be Richard Turner\, Firearms Specialist with the\n\nUS Bureau of Alcohol\, Tobacco and Firearms\, whose topic will be\, "The Trafficking of Guns Across Our Nation" and Jarrod Burguan\, Chief of Police\, City of San Bernardino\, who will speak on\, "The Trafficking of Guns in the Inland Empire and the Impact of Gun Violence on a Local Community". \n\nReservation of $30.00 for this session may be made by phoning the LWV Office at 909-624-9457 or by sending a check to LWV of the Claremont Area\, P.O. Box 1532\, Claremont\, CA 91711.
X-ALT-DESC;FMTTYPE=text/html:<span style="font-size:14px">US The Trafficking of Guns in the US:&nbsp\; A Food for Thought Event<br />\n&nbsp\;<br />\nThis program is the first in a year-long series of public meetings on Gun Violence\, sponsored by the local League of Women Voters\, beginning on Saturday\, October 6 from 4 to 6 PM in the Padua Room of the Hughes Center at 1700 Danbury Road\, Claremont. &nbsp\;Speakers will be Richard Turner\, Firearms Specialist with the<br />\nUS Bureau of Alcohol\, Tobacco and Firearms\, whose topic will be\, &ldquo\;The Trafficking of Guns Across Our Nation&rdquo\; and Jarrod Burguan\, Chief of Police\, City of San Bernardino\, who will speak on\, &ldquo\;The Trafficking of Guns in the Inland Empire and the Impact of Gun Violence on a Local Community&rdquo\;.&nbsp\;<br />\nReservation of $30.00 for this session may be made by phoning the LWV Office at 909-624-9457 or by sending a check to LWV of the Claremont Area\, P.O. Box 1532\, Claremont\, CA 91711.&nbsp\;&nbsp\; </span>
LOCATION:Padua Room\, Hughes Center\, 1700 Danbury Road\, Claremont\, CA 91711
UID:e.838.20293
SEQUENCE:3
DTSTAMP:20260421T105937Z
URL:https://business.claremontchamber.org/events/details/the-trafficking-of-gunds-in-the-united-states-20293
END:VEVENT

END:VCALENDAR
