BEGIN:VCALENDAR
VERSION:2.0
PRODID:-//ChamberMaster//Event Calendar 2.0//EN
METHOD:PUBLISH
X-PUBLISHED-TTL:P3D
REFRESH-INTERVAL:P3D
CALSCALE:GREGORIAN
BEGIN:VEVENT
DTSTART;VALUE=DATE:20161116
DTEND;VALUE=DATE:20161117
TRANSP:TRANSPARENT
X-MICROSOFT-CDO-ALLDAYEVENT:TRUE
SUMMARY:Toy Donation-Padua Hills Theatre Annual Children's Fund Event
DESCRIPTION:This event is sponsored by Padua Hills/Chantrelles Catering.\n\n\n\nWe would like to reach out to the local community for holiday toy donations for children. We host an annual Holiday Party with the Children's Fund to provide them with an afternoon of holiday delights and gifts from Santa.  We will be accepting gift donations Tuesdays\, Wednesdays and Thursdays between the hours of 10am ad 4pm this week and next week on Tuesday 11/22 and Wednesday 11/23 between the hours of 10a and 4pm. And also the following week Tuesday 11/29\, Wednesday 11/30 and Thursday 12/1 between the hours of 10a and 4pm.\n\n\n\nIf you would like to donate a toy please drop it off unwrapped to The Padua Hills Theatre during the times listed above. Thanking you in advance for your for generosity for the children of our locals communities during the holiday season.
X-ALT-DESC;FMTTYPE=text/html:<span style="font-size:12px\;"><span style="font-family:arial\;"><em>This event is sponsored by Padua Hills/Chantrelles Catering.</em><br />\n<br />\nWe would like to reach out to the local community for holiday toy donations for children. We host an annual Holiday Party with the Children&#39\;s Fund to provide them with an afternoon of holiday delights and gifts from Santa.&nbsp\;</span></span><span style="font-family: arial\; font-size: 12px\;">&nbsp\;We will be accepting gift donations Tuesdays\, Wednesdays and Thursdays between the hours of&nbsp\;</span>10am<span style="font-family: arial\; font-size: 12px\;">&nbsp\;ad 4pm this week and next week on Tuesday 11/22 and Wednesday 11/23 between the hours of 10a and 4pm. And also the following week Tuesday 11/29\, Wednesday 11/30 and Thursday 12/1 between the hours of 10a and 4pm.</span><br />\n<br />\n<span style="font-size:12px\;"><span style="font-family:arial\;">If you would like to donate a toy please drop it off unwrapped to The Padua Hills Theatre during the times listed above. Thanking you in advance for </span></span><span style="font-size:12px\;"><span style="font-family:arial\;">your</span></span><span style="font-size:12px\;"><span style="font-family:arial\;"> for generosity for the children of our locals communities during the holiday season.</span></span>
LOCATION:The Padua Hills Theatre 4467 Padua Ave Claremont\, Ca 91711
UID:e.838.14101
SEQUENCE:3
DTSTAMP:20260424T215847Z
URL:https://business.claremontchamber.org/events/details/toy-donation-padua-hills-theatre-annual-children-s-fund-event-14101
END:VEVENT

END:VCALENDAR
