BEGIN:VCALENDAR
VERSION:2.0
PRODID:-//ChamberMaster//Event Calendar 2.0//EN
METHOD:PUBLISH
X-PUBLISHED-TTL:P3D
REFRESH-INTERVAL:P3D
CALSCALE:GREGORIAN
BEGIN:VEVENT
DTSTART:20180123T200000Z
DTEND:20180123T210000Z
X-MICROSOFT-CDO-ALLDAYEVENT:FALSE
SUMMARY:Upland Spa Dentistry Ribbon Cutting
DESCRIPTION:Join us for a special Ribbon Cutting for Upland Spa Dentistry!
X-ALT-DESC;FMTTYPE=text/html:Join us for a special Ribbon Cutting for Upland Spa Dentistry!
LOCATION:2440 W Arrow Route Suite 4J\, Upland\, CA 91786
UID:e.838.17212
SEQUENCE:3
DTSTAMP:20260423T005823Z
URL:https://business.claremontchamber.org/events/details/upland-spa-dentistry-ribbon-cutting-17212
END:VEVENT

END:VCALENDAR
