BEGIN:VCALENDAR
VERSION:2.0
PRODID:-//ChamberMaster//Event Calendar 2.0//EN
METHOD:PUBLISH
X-PUBLISHED-TTL:P3D
REFRESH-INTERVAL:P3D
CALSCALE:GREGORIAN
BEGIN:VEVENT
DTSTART:20180916T000000Z
DTEND:20180916T050000Z
X-MICROSOFT-CDO-ALLDAYEVENT:FALSE
SUMMARY:Uptown Saturday Night!
DESCRIPTION:Uptown Avenue and Vintage Vault are hosting Uptown Saturday Night! Saturday September 15th\, 2018! We will be having exclusive sneakers\, luxury brands\, designer clothes along with many different vendors and gourmet food with live music and much much more! Bringing a breath of fresh air to Downtown Upland! We will also be having a 50/50 raffle! $500 minimum!! A portion of the proceeds will go  to benefit  local charities such as West end YMCA\, Friends of Upland Animal Shelter\, Upland police officers association\, Upland Chamber of Commerce\, and Dive Warriors! Prizes for the raffle include : 2 VIP concert tickets to see Beyonce and Jay-z\, NFL LA Rams Season games\, Gift certificates to our store and various others\, a luxury brand watch and a mystery Louis Vuitton prize amd many more!
X-ALT-DESC;FMTTYPE=text/html:<span style="font-size:14px"><span style="font-family:tahoma">Uptown Avenue and Vintage Vault are hosting Uptown Saturday Night! Saturday September 15th\, 2018! We will be having exclusive sneakers\, luxury brands\, designer clothes along with many different vendors and gourmet food with live music and much much more! Bringing a breath of fresh air to Downtown Upland! We will also be having a 50/50 raffle! $500 minimum!! A portion of the proceeds will go&nbsp\; to benefit&nbsp\; local charities such as West end YMCA\, Friends of Upland Animal Shelter\, Upland police officers association\, Upland Chamber of Commerce\, and Dive Warriors! Prizes for the raffle include : 2 VIP concert tickets to see Beyonce and Jay-z\, NFL LA Rams Season games\, Gift certificates to our store and various others\, a luxury brand watch and a mystery Louis Vuitton prize amd many more!</span></span>
LOCATION:308 N. 2nd Ave\, Upland\, CA 91786
UID:e.838.20187
SEQUENCE:3
DTSTAMP:20260421T201012Z
URL:https://business.claremontchamber.org/events/details/uptown-saturday-night-20187
END:VEVENT

END:VCALENDAR
