BEGIN:VCALENDAR
VERSION:2.0
PRODID:-//ChamberMaster//Event Calendar 2.0//EN
METHOD:PUBLISH
X-PUBLISHED-TTL:P3D
REFRESH-INTERVAL:P3D
CALSCALE:GREGORIAN
BEGIN:VEVENT
DTSTART:20180509T183000Z
DTEND:20180509T200000Z
X-MICROSOFT-CDO-ALLDAYEVENT:FALSE
SUMMARY:VA - The Perfect Buyer Lunch & Learn
DESCRIPTION:VA - THE PERFECT BUYER\n\n\nOur Veterans Served with Honor\, now let the VA Loan Program Honor Their Service.\n\nLearn how easy working with the VA can be! \n\n \n\n\nWe at PERL Mortgage know that knowledge is power\, which is why we are hosting regular lunch and learn events. We are partnering with industry specialists to share their expertise on all aspects of raising your real estate productivity to new heights. \n\n\n\nFor our next event we are proud to feature\, John McDade\, a Veteran Affairs Lending Specialist and Director of Government Lending with PERL Mortgage. \n\n\n\n \n\nProgram Highlights \n\n\n	No Extra Costs for the Seller\n	No Mortgage Insurance\n	Common Sense Underwriting\n	VA Buyer can buy a $1 Mil home with only 8% down\n	VA Loans Offer some of the Best Rates\n\n\nJoin us May 9th at 11:30am for insight into these topics and more! \n\n\n\nLunch will be provided. RSVPs are appreciated. \n\n\n\n\n\nWe welcome speaker and topic suggestions! Help us deliver what matters to you.
X-ALT-DESC;FMTTYPE=text/html:<div style="text-align:center"><br />\n<span style="font-size:18px"><u><strong>VA - THE PERFECT BUYER</strong></u></span></div>\n\n<div style="text-align:center">\n<div><em><span style="font-size:14px">Our Veterans Served with Honor\, now let the VA Loan Program Honor Their Service.<br />\nLearn how easy working with the VA can be!&nbsp\;</span></em></div>\n\n<div>&nbsp\;</div>\n</div>\n\n<div><span style="font-size:12px"><span style="font-size:14px">We at PERL Mortgage know that knowledge is power\, which is why we are hosting regular lunch and learn events. We are partnering with industry specialists to share their expertise on all aspects of raising your real estate productivity to new heights.&nbsp\;<br />\n<br />\n<span style="font-size:16px"><span style="color:rgb(255\, 140\, 0)"><strong>For our next event we are proud to feature\, John McDade\, a Veteran Affairs Lending Specialist and Director of Government Lending with PERL Mortgage.</strong>&nbsp\;</span></span></span></span><br />\n<br />\n&nbsp\;</div>\n\n<div style="text-align:center"><span style="font-size:18px"><u><strong>Program Highlights&nbsp\;</strong></u></span></div>\n\n<ul>\n	<li><span style="font-size:16px">No Extra Costs for the Seller</span></li>\n	<li><span style="font-size:16px">No Mortgage Insurance</span></li>\n	<li><span style="font-size:16px">Common Sense Underwriting</span></li>\n	<li><span style="font-size:16px">VA Buyer can buy a $1 Mil home with only 8% down</span></li>\n	<li><span style="font-size:16px">VA Loans Offer some of the Best Rates</span></li>\n</ul>\n\n<div style="text-align:center"><span style="font-size:16px"><span style="color:rgb(255\, 140\, 0)"><strong><span style="font-size:18px">Join us May 9th at 11:30am for insight into these topics and more!</span>&nbsp\;</strong></span></span><br />\n<br />\n<span style="font-size:16px"><em>Lunch will be provided. RSVPs are appreciated.&nbsp\;</em><br />\n<br />\n<br />\nWe welcome speaker and topic suggestions! Help us deliver what matters to you.&nbsp\;</span></div>\n\n<div>&nbsp\;</div>\n
LOCATION:PERL Mortgage - Claremont Conference Center 250 West 1st Street\, Suite 346 Claremont\, CA 91711
UID:e.838.18876
SEQUENCE:3
DTSTAMP:20260422T104915Z
URL:https://business.claremontchamber.org/events/details/va-the-perfect-buyer-lunch-learn-18876
END:VEVENT

END:VCALENDAR
