BEGIN:VCALENDAR
VERSION:2.0
PRODID:-//ChamberMaster//Event Calendar 2.0//EN
METHOD:PUBLISH
X-PUBLISHED-TTL:P3D
REFRESH-INTERVAL:P3D
CALSCALE:GREGORIAN
BEGIN:VEVENT
DTSTART;VALUE=DATE:20260214
DTEND;VALUE=DATE:20260215
TRANSP:TRANSPARENT
X-MICROSOFT-CDO-ALLDAYEVENT:TRUE
SUMMARY:Valentine's Day
DESCRIPTION:Happy Valentine's Day from the Claremont Chamber of Commerce
X-ALT-DESC;FMTTYPE=text/html:Happy Valentine&#39\;s Day from the Claremont Chamber of Commerce
LOCATION:
UID:e.838.48506
SEQUENCE:3
DTSTAMP:20260419T133851Z
URL:https://business.claremontchamber.org/events/details/valentine-s-day-48506
END:VEVENT

END:VCALENDAR
