BEGIN:VCALENDAR
VERSION:2.0
PRODID:-//ChamberMaster//Event Calendar 2.0//EN
METHOD:PUBLISH
X-PUBLISHED-TTL:P3D
REFRESH-INTERVAL:P3D
CALSCALE:GREGORIAN
BEGIN:VEVENT
DTSTART:20260304T230000Z
DTEND:20260305T000000Z
X-MICROSOFT-CDO-ALLDAYEVENT:FALSE
SUMMARY:Village Venture Committee Meeting
DESCRIPTION:The first Village Venture Committee Meeting\n\n\n\nIf you are interested in joining this committee\, please click here to fill out and submit the 2026-2027 Committee Form.\n\n\n\nMust be a Chamber Member to join Committees and to attend Committee meetings.
X-ALT-DESC;FMTTYPE=text/html:The first Village Venture Committee Meeting<br />\n<br />\nIf you are interested in joining this committee\,&nbsp\;<a href="https://form.jotform.com/253455332736156">please click here to fill out and submit the 2026-2027 Committee Form</a>.<br />\n<br />\nMust be a Chamber Member to join Committees and to attend Committee meetings.
LOCATION:205 Yale Ave\, Claremont\, CA 91711
UID:e.838.48688
SEQUENCE:3
DTSTAMP:20260419T121647Z
URL:https://business.claremontchamber.org/events/details/village-venture-committee-meeting-48688
END:VEVENT

END:VCALENDAR
