BEGIN:VCALENDAR
VERSION:2.0
PRODID:-//ChamberMaster//Event Calendar 2.0//EN
METHOD:PUBLISH
X-PUBLISHED-TTL:P3D
REFRESH-INTERVAL:P3D
CALSCALE:GREGORIAN
BEGIN:VEVENT
DTSTART:20180315T013000Z
DTEND:20180315T030000Z
X-MICROSOFT-CDO-ALLDAYEVENT:FALSE
SUMMARY:Weight Worries: Eating Disorders 101
DESCRIPTION:Sometimes it is hard to know how to tell whether body image concerns and dieting have crossed the line. Many factors may trigger an eating disorder\, including trauma\, dieting\, life stressors and more. In this informative and interactive presentation\, we explore how to spot the warning signs\, how to avoid common misunderstandings about eating disorders and how to get yourself or a loved on to the right kind of help. Presented by Tamson Overholtzer\, LMFT\, CEDS   she has worked with patients in recovery for over 12 years both in private practice and in higher levels of eating disorder care. She is the founder and director of Bright Road Recovery\, an outpatient eating disorder treatment center in Claremont.
X-ALT-DESC;FMTTYPE=text/html:Sometimes it is hard to know how to tell whether body image concerns and dieting have crossed the line. Many factors may trigger an eating disorder\, including trauma\, dieting\, life stressors and more. In this informative and interactive presentation\, we explore how to spot the warning signs\, how to avoid common misunderstandings about eating disorders and how to get yourself or a loved on to the right kind of help. Presented by Tamson Overholtzer\, LMFT\, CEDS &ndash\; she has worked with patients in recovery for over 12 years both in private practice and in higher levels of eating disorder care. She is the founder and director of Bright Road Recovery\, an outpatient eating disorder treatment center in Claremont.
LOCATION:Held at the Pomona Valley Health Center at 1601. N. Monte Vista Ave.\, Claremont
UID:e.838.17641
SEQUENCE:3
DTSTAMP:20260422T231256Z
URL:https://business.claremontchamber.org/events/details/weight-worries-eating-disorders-101-17641
END:VEVENT

END:VCALENDAR
