BEGIN:VCALENDAR
VERSION:2.0
PRODID:-//ChamberMaster//Event Calendar 2.0//EN
METHOD:PUBLISH
X-PUBLISHED-TTL:P3D
REFRESH-INTERVAL:P3D
CALSCALE:GREGORIAN
BEGIN:VEVENT
DTSTART:20160918T010000Z
DTEND:20160918T060000Z
X-MICROSOFT-CDO-ALLDAYEVENT:FALSE
SUMMARY:Wine and Brew for the Rescue - Priceless Pet Rescue
DESCRIPTION:This event is sponsored by Priceless Pet Rescue.\n\n\n\nJoin us for a fun evening of wine tasting by Justin Wines and Plateau Vineyards\, beer tasting by Last Name Brewing and No Clue Brewery\, live music by the Dave Seltzer Band\, World Famous Magic Castle Mentalist Carl Christman\, dinner\, casino tables\, and tons of raffle baskets. \n\n\n\nThis is a fantastic event you won't want to miss and the best part is ALL proceeds go right back into "saving one by one until there are none".
X-ALT-DESC;FMTTYPE=text/html:<span style="font-size:14px"><span style="font-family:comic sans ms"><span style="color:rgb(165\, 42\, 42)">This event is sponsored by Priceless Pet Rescue.<br />\n<br />\nJoin us for a fun evening of wine tasting by Justin Wines and Plateau Vineyards\, beer tasting by Last Name Brewing and No Clue Brewery\, live music by the Dave Seltzer Band\, World Famous Magic Castle Mentalist Carl Christman\, dinner\, casino tables\, and tons of raffle baskets.&nbsp\;<br />\n<br />\nThis is a fantastic event you won&#39\;t want to miss and the best part is ALL proceeds go right back into &quot\;saving one by one until there are none&quot\;.&nbsp\; </span></span></span>
LOCATION:Chino Hills\, Ca Details sent with purchase of ticket.
UID:e.838.13485
SEQUENCE:3
DTSTAMP:20260425T021615Z
URL:https://business.claremontchamber.org/events/details/wine-and-brew-for-the-rescue-priceless-pet-rescue-09-17-2016-13485
END:VEVENT

END:VCALENDAR
