BEGIN:VCALENDAR
VERSION:2.0
PRODID:-//ChamberMaster//Event Calendar 2.0//EN
METHOD:PUBLISH
X-PUBLISHED-TTL:P3D
REFRESH-INTERVAL:P3D
CALSCALE:GREGORIAN
BEGIN:VEVENT
DTSTART:20161105T010000Z
DTEND:20161105T040000Z
X-MICROSOFT-CDO-ALLDAYEVENT:FALSE
SUMMARY:Wine and Music Event
DESCRIPTION:This event is sponsored by House of Ruth.\n\n\n\nJoin us for award winning wines\, tasty bites\, and amazing music featuring the talented Dynamite Dawson.
X-ALT-DESC;FMTTYPE=text/html:<p><span style="font-size:14px\;"><span style="font-family:arial\;"><em>This event is sponsored by House of Ruth.</em><br />\n<br />\nJoin us for award winning wines\, tasty bites\, and amazing music featuring the talented Dynamite Dawson.&nbsp\;</span></span></p>\n
LOCATION:Doubletree by Hilton Claremont On the Patio 555 W Foothill Blvd Claremont CA 91711
UID:e.838.13625
SEQUENCE:3
DTSTAMP:20260424T222718Z
URL:https://business.claremontchamber.org/events/details/wine-and-music-event-13625
END:VEVENT

END:VCALENDAR
