BEGIN:VCALENDAR
VERSION:2.0
PRODID:-//ChamberMaster//Event Calendar 2.0//EN
METHOD:PUBLISH
X-PUBLISHED-TTL:P3D
REFRESH-INTERVAL:P3D
CALSCALE:GREGORIAN
BEGIN:VEVENT
DTSTART:20170623T160000Z
DTEND:20170623T223000Z
X-MICROSOFT-CDO-ALLDAYEVENT:FALSE
SUMMARY:Women's Leadership Conference: Thrive!
DESCRIPTION:3rd Annual Women's Leadership Conference\, presented by Executive Women International's Pomona Valley Chapter.  \n\nFeaturing:\n\nLori Giovannoni\, award-winning speaker\, author\, and director of EWI's Academy of Leadership\n\nJuliAnn Stitick\, Personal brand strategist and author\n\nDorothy The Organizer Breininger\, America's most innovative professional organizer and host of the nationally acclaimed television show\, "Hoarders"\n\nSpecial ASIST Scholarship Awards presentation luncheon.
X-ALT-DESC;FMTTYPE=text/html:<span style="font-size:14px">3rd Annual <strong>Women&#39\;s Leadership Conference</strong>\, presented by Executive Women International&#39\;s Pomona Valley Chapter. &nbsp\;<br />\n<u>Featuring:</u><br />\n<strong>Lori Giovannoni</strong>\, award-winning speaker\, author\, and director of EWI&#39\;s Academy of Leadership<br />\n<strong>JuliAnn Stitick\,</strong> Personal brand strategist and author<br />\n<strong>Dorothy <em>The Organizer </em>Breininger\,</strong> America&#39\;s most innovative professional organizer and host of the nationally acclaimed television show\, <em>&quot\;Hoarders&quot\;</em><br />\n<span style="font-family:arial\,helvetica\,sans-serif"><span class="marker">Special ASIST Scholarship Awards presentation luncheon.</span></span></span>
LOCATION:DoubleTree by Hilton\, Claremont 555 W. Foothill Blvd.\, Claremont CA 91711
UID:e.838.16196
SEQUENCE:3
DTSTAMP:20260424T083716Z
URL:https://business.claremontchamber.org/events/details/women-s-leadership-conference-thrive-16196
END:VEVENT

END:VCALENDAR
